Workbook

Sheet Návod
B2: HLASOVÁNÍ SVJ
C4: Tento formulář slouží pro zaznamenání hlasování SVJ a pro usnadnění počítání procent pro jejich vyhodnocení.
C6: Návod:
D8: - | E8: Nejdříve v souladu s Katastrem nemovitostí vyplňte vstupní data o jednotlivých jednotkách na listě hlasování - aktuálního vlastníka, jednotku a jeho podíl (sl. B-D). Pokud má jednotka více vlastníků, je potřeba určit společného zástupce, který bude za jednotku hlasovat.
D9: - | E9: Data se propíší do prezenční listiny, kterou lze vytisknout pro vlastnoruční podpisy na prezenčním shromáždění SVJ (bez barevného podkresu).
D10: - | E10: Pro každé shromáždění nebo hlasování per rollam doporučujeme využít kopii takto připraveného souboru, aktualizovat datum shromáždění a upravit jen případné změny z Katastru nemovitostí.
D11: - | E11: Dále předvyplňte témata hlasování (ř. 17) - např. schválení účetní závěrky, schválení rozpočtu, schválení příspěvku do fondu oprav atd.
D13: - | E13: U prezenčního shromáždění vyplňte záznam o přítomnosti / nepřítomnosti / zastoupení v listu Hlasování ve sl. F. V horní levé části tabulky se vypočítá usnášeníschopnost. Automaticky se ve sloupcích jednotlivých hlasování předvyplní ANO (souhlas s usnesením) - tyto hodnoty upravte v souladu se skutečným hlasováním jednotlivých vlastníků / zástupců (lze přepsat nebo vybrat z nabídky A - pro / N - proti / Z - zdržel se).
D14: - | E14: U hlasování per rollam není potřeba vyplňovat účast ve sloupci F. Vyplňte pouze jednotlivé sloupce hlasování dle odevzdaných hlasovacích lístků.
D16: - | E16: Výsledek hlasování v procentech naleznete v horní pravé části tabulky. Pokud se zde zobrazí upozornění "!!!", součet nedává 100% a zkontrolujte proto, že je u všech jednotek správně vyplněno vyjádření k usnesení.
C18: Věříme, že vám tento soubor usnadní proces hlasování a zpříjemní administrativu spojenou se shromážděním.

Sheet Hlasování
B2: HLASOVÁNÍ | I2: Hlasování
I3: 1 | J3: 2 | K3: 3 | L3: 4 | M3: 5 | N3: 6 | O3: 7 | P3: 8 | Q3: 9 | R3: 10
B5: Společenství vlastníků xxx | G5: Hlasování z přítomných | I5: =IF(OR(I$17="",$C$11=0),"",IF(SUM(I6:I8)=1,"","!!!")) | J5: =IF(OR(J$17="",$C$11=0),"",IF(SUM(J6:J8)=1,"","!!!")) | K5: =IF(OR(K$17="",$C$11=0),"",IF(SUM(K6:K8)=1,"","!!!")) | L5: =IF(OR(L$17="",$C$11=0),"",IF(SUM(L6:L8)=1,"","!!!")) | M5: =IF(OR(M$17="",$C$11=0),"",IF(SUM(M6:M8)=1,"","!!!")) | N5: =IF(OR(N$17="",$C$11=0),"",IF(SUM(N6:N8)=1,"","!!!")) | O5: =IF(OR(O$17="",$C$11=0),"",IF(SUM(O6:O8)=1,"","!!!")) | P5: =IF(OR(P$17="",$C$11=0),"",IF(SUM(P6:P8)=1,"","!!!")) | ... R5: =IF(OR(R$17="",$C$11=0),"",IF(SUM(R6:R8)=1,"","!!!"))
G6: Ano | I6: =IF(I$17="","",IF($C$11=0,0,SUMIFS($E$18:$E$78,I$18:I$78,"A")/$C$11)) -> 0 | J6: =IF(J$17="","",IF($C$11=0,0,SUMIFS($E$18:$E$78,J$18:J$78,"A")/$C$11)) | K6: =IF(K$17="","",IF($C$11=0,0,SUMIFS($E$18:$E$78,K$18:K$78,"A")/$C$11)) | L6: =IF(L$17="","",IF($C$11=0,0,SUMIFS($E$18:$E$78,L$18:L$78,"A")/$C$11)) | M6: =IF(M$17="","",IF($C$11=0,0,SUMIFS($E$18:$E$78,M$18:M$78,"A")/$C$11)) | N6: =IF(N$17="","",IF($C$11=0,0,SUMIFS($E$18:$E$78,N$18:N$78,"A")/$C$11)) | O6: =IF(O$17="","",IF($C$11=0,0,SUMIFS($E$18:$E$78,O$18:O$78,"A")/$C$11)) | P6: =IF(P$17="","",IF($C$11=0,0,SUMIFS($E$18:$E$78,P$18:P$78,"A")/$C$11)) | ... R6: =IF(R$17="","",IF($C$11=0,0,SUMIFS($E$18:$E$78,R$18:R$78,"A")/$C$11))
B7: dne xx.xx.202x | G7: Ne | I7: =IF(I$17="","",IF($C$11=0,0,SUMIFS($E$18:$E$78,I$18:I$78,"N")/$C$11)) -> 0 | J7: =IF(J$17="","",IF($C$11=0,0,SUMIFS($E$18:$E$78,J$18:J$78,"N")/$C$11)) | K7: =IF(K$17="","",IF($C$11=0,0,SUMIFS($E$18:$E$78,K$18:K$78,"N")/$C$11)) | L7: =IF(L$17="","",IF($C$11=0,0,SUMIFS($E$18:$E$78,L$18:L$78,"N")/$C$11)) | M7: =IF(M$17="","",IF($C$11=0,0,SUMIFS($E$18:$E$78,M$18:M$78,"N")/$C$11)) | N7: =IF(N$17="","",IF($C$11=0,0,SUMIFS($E$18:$E$78,N$18:N$78,"N")/$C$11)) | O7: =IF(O$17="","",IF($C$11=0,0,SUMIFS($E$18:$E$78,O$18:O$78,"N")/$C$11)) | P7: =IF(P$17="","",IF($C$11=0,0,SUMIFS($E$18:$E$78,P$18:P$78,"N")/$C$11)) | ... R7: =IF(R$17="","",IF($C$11=0,0,SUMIFS($E$18:$E$78,R$18:R$78,"N")/$C$11))
G8: Zdržel se | I8: =IF(I$17="","",IF($C$11=0,0,SUMIFS($E$18:$E$78,I$18:I$78,"Z")/$C$11)) -> 0 | J8: =IF(J$17="","",IF($C$11=0,0,SUMIFS($E$18:$E$78,J$18:J$78,"Z")/$C$11)) | K8: =IF(K$17="","",IF($C$11=0,0,SUMIFS($E$18:$E$78,K$18:K$78,"Z")/$C$11)) | L8: =IF(L$17="","",IF($C$11=0,0,SUMIFS($E$18:$E$78,L$18:L$78,"Z")/$C$11)) | M8: =IF(M$17="","",IF($C$11=0,0,SUMIFS($E$18:$E$78,M$18:M$78,"Z")/$C$11)) | N8: =IF(N$17="","",IF($C$11=0,0,SUMIFS($E$18:$E$78,N$18:N$78,"Z")/$C$11)) | O8: =IF(O$17="","",IF($C$11=0,0,SUMIFS($E$18:$E$78,O$18:O$78,"Z")/$C$11)) | P8: =IF(P$17="","",IF($C$11=0,0,SUMIFS($E$18:$E$78,P$18:P$78,"Z")/$C$11)) | ... R8: =IF(R$17="","",IF($C$11=0,0,SUMIFS($E$18:$E$78,R$18:R$78,"Z")/$C$11))
B10: Usnášeníschopnost: | G10: Hlasování ze všech / per rollam | I10: =IF(I$17="","",IF(SUM(I11:I13)=1,"","!!!")) -> !!! | J10: =IF(J$17="","",IF(SUM(J11:J13)=1,"","!!!")) | K10: =IF(K$17="","",IF(SUM(K11:K13)=1,"","!!!")) | L10: =IF(L$17="","",IF(SUM(L11:L13)=1,"","!!!")) | M10: =IF(M$17="","",IF(SUM(M11:M13)=1,"","!!!")) | N10: =IF(N$17="","",IF(SUM(N11:N13)=1,"","!!!")) | O10: =IF(O$17="","",IF(SUM(O11:O13)=1,"","!!!")) | P10: =IF(P$17="","",IF(SUM(P11:P13)=1,"","!!!")) | ... R10: =IF(R$17="","",IF(SUM(R11:R13)=1,"","!!!"))
B11: Přítomno | C11: =SUMIF(F18:F78,"A",$E$18:$E$78)+SUMIF(F18:F78,"Z",$E$18:$E$78) -> 0 | G11: Ano | I11: =IF(I$17="","",SUMIFS($E$18:$E$78,I$18:I$78,"A")) -> 0 | J11: =IF(J$17="","",SUMIFS($E$18:$E$78,J$18:J$78,"A")) | K11: =IF(K$17="","",SUMIFS($E$18:$E$78,K$18:K$78,"A")) | L11: =IF(L$17="","",SUMIFS($E$18:$E$78,L$18:L$78,"A")) | M11: =IF(M$17="","",SUMIFS($E$18:$E$78,M$18:M$78,"A")) | N11: =IF(N$17="","",SUMIFS($E$18:$E$78,N$18:N$78,"A")) | O11: =IF(O$17="","",SUMIFS($E$18:$E$78,O$18:O$78,"A")) | P11: =IF(P$17="","",SUMIFS($E$18:$E$78,P$18:P$78,"A")) | ... R11: =IF(R$17="","",SUMIFS($E$18:$E$78,R$18:R$78,"A"))
G12: Ne | I12: =IF(I$17="","",SUMIFS($E$18:$E$78,I$18:I$78,"N")) -> 0 | J12: =IF(J$17="","",SUMIFS($E$18:$E$78,J$18:J$78,"N")) | K12: =IF(K$17="","",SUMIFS($E$18:$E$78,K$18:K$78,"N")) | L12: =IF(L$17="","",SUMIFS($E$18:$E$78,L$18:L$78,"N")) | M12: =IF(M$17="","",SUMIFS($E$18:$E$78,M$18:M$78,"N")) | N12: =IF(N$17="","",SUMIFS($E$18:$E$78,N$18:N$78,"N")) | O12: =IF(O$17="","",SUMIFS($E$18:$E$78,O$18:O$78,"N")) | P12: =IF(P$17="","",SUMIFS($E$18:$E$78,P$18:P$78,"N")) | ... R12: =IF(R$17="","",SUMIFS($E$18:$E$78,R$18:R$78,"N"))
G13: Zdržel se | I13: =IF(I$17="","",SUMIFS($E$18:$E$78,I$18:I$78,"Z")+SUMIFS($E$18:$E$78,I$18:I$78,"")) -> 0 | J13: =IF(J$17="","",SUMIFS($E$18:$E$78,J$18:J$78,"Z")+SUMIFS($E$18:$E$78,J$18:J$78,"")) | K13: =IF(K$17="","",SUMIFS($E$18:$E$78,K$18:K$78,"Z")+SUMIFS($E$18:$E$78,K$18:K$78,"")) | L13: =IF(L$17="","",SUMIFS($E$18:$E$78,L$18:L$78,"Z")+SUMIFS($E$18:$E$78,L$18:L$78,"")) | M13: =IF(M$17="","",SUMIFS($E$18:$E$78,M$18:M$78,"Z")+SUMIFS($E$18:$E$78,M$18:M$78,"")) | N13: =IF(N$17="","",SUMIFS($E$18:$E$78,N$18:N$78,"Z")+SUMIFS($E$18:$E$78,N$18:N$78,"")) | O13: =IF(O$17="","",SUMIFS($E$18:$E$78,O$18:O$78,"Z")+SUMIFS($E$18:$E$78,O$18:O$78,"")) | P13: =IF(P$17="","",SUMIFS($E$18:$E$78,P$18:P$78,"Z")+SUMIFS($E$18:$E$78,P$18:P$78,"")) | ... R13: =IF(R$17="","",SUMIFS($E$18:$E$78,R$18:R$78,"Z")+SUMIFS($E$18:$E$78,R$18:R$78,""))
I15: Hlasování: A - pro / N - proti / Z - zdržel se
D16: =IF(SUM(D18:D78)=1,"",SUM(D18:D78)) -> 0 | E16: =IF(SUM(E18:E78)=1,"",SUM(E18:E78)) -> 0 | I16: 1 | J16: 2 | K16: 3 | L16: 4 | M16: 5 | N16: 6 | O16: 7 | P16: 8 | Q16: 9 | R16: 10
B17: Vlastník | C17: Jednotka | D17: Spoluvlastnický podíl | F17: Přítomen / Zastoupen A - ano / N - ne / Z - zast. | G17: Zastupuje | I17: Schválení účetní závěrky
E18: =D18 -> 0 | I18: =IF(AND(OR($F18="A",$F18="Z"),I$17<>""),"A","") | J18: =IF(AND(OR($F18="A",$F18="Z"),J$17<>""),"A","") | K18: =IF(AND(OR($F18="A",$F18="Z"),K$17<>""),"A","") | L18: =IF(AND(OR($F18="A",$F18="Z"),L$17<>""),"A","") | M18: =IF(AND(OR($F18="A",$F18="Z"),M$17<>""),"A","") | N18: =IF(AND(OR($F18="A",$F18="Z"),N$17<>""),"A","") | O18: =IF(AND(OR($F18="A",$F18="Z"),O$17<>""),"A","") | P18: =IF(AND(OR($F18="A",$F18="Z"),P$17<>""),"A","") | ... R18: =IF(AND(OR($F18="A",$F18="Z"),R$17<>""),"A","")
E19: =D19 -> 0 | I19: =IF(AND(OR($F19="A",$F19="Z"),I$17<>""),"A","") | J19: =IF(AND(OR($F19="A",$F19="Z"),J$17<>""),"A","") | K19: =IF(AND(OR($F19="A",$F19="Z"),K$17<>""),"A","") | L19: =IF(AND(OR($F19="A",$F19="Z"),L$17<>""),"A","") | M19: =IF(AND(OR($F19="A",$F19="Z"),M$17<>""),"A","") | N19: =IF(AND(OR($F19="A",$F19="Z"),N$17<>""),"A","") | O19: =IF(AND(OR($F19="A",$F19="Z"),O$17<>""),"A","") | P19: =IF(AND(OR($F19="A",$F19="Z"),P$17<>""),"A","") | ... R19: =IF(AND(OR($F19="A",$F19="Z"),R$17<>""),"A","")
E20: =D20 -> 0 | I20: =IF(AND(OR($F20="A",$F20="Z"),I$17<>""),"A","") | J20: =IF(AND(OR($F20="A",$F20="Z"),J$17<>""),"A","") | K20: =IF(AND(OR($F20="A",$F20="Z"),K$17<>""),"A","") | L20: =IF(AND(OR($F20="A",$F20="Z"),L$17<>""),"A","") | M20: =IF(AND(OR($F20="A",$F20="Z"),M$17<>""),"A","") | N20: =IF(AND(OR($F20="A",$F20="Z"),N$17<>""),"A","") | O20: =IF(AND(OR($F20="A",$F20="Z"),O$17<>""),"A","") | P20: =IF(AND(OR($F20="A",$F20="Z"),P$17<>""),"A","") | ... R20: =IF(AND(OR($F20="A",$F20="Z"),R$17<>""),"A","")
E21: =D21 -> 0 | I21: =IF(AND(OR($F21="A",$F21="Z"),I$17<>""),"A","") | J21: =IF(AND(OR($F21="A",$F21="Z"),J$17<>""),"A","") | K21: =IF(AND(OR($F21="A",$F21="Z"),K$17<>""),"A","") | L21: =IF(AND(OR($F21="A",$F21="Z"),L$17<>""),"A","") | M21: =IF(AND(OR($F21="A",$F21="Z"),M$17<>""),"A","") | N21: =IF(AND(OR($F21="A",$F21="Z"),N$17<>""),"A","") | O21: =IF(AND(OR($F21="A",$F21="Z"),O$17<>""),"A","") | P21: =IF(AND(OR($F21="A",$F21="Z"),P$17<>""),"A","") | ... R21: =IF(AND(OR($F21="A",$F21="Z"),R$17<>""),"A","")
E22: =D22 -> 0 | I22: =IF(AND(OR($F22="A",$F22="Z"),I$17<>""),"A","") | J22: =IF(AND(OR($F22="A",$F22="Z"),J$17<>""),"A","") | K22: =IF(AND(OR($F22="A",$F22="Z"),K$17<>""),"A","") | L22: =IF(AND(OR($F22="A",$F22="Z"),L$17<>""),"A","") | M22: =IF(AND(OR($F22="A",$F22="Z"),M$17<>""),"A","") | N22: =IF(AND(OR($F22="A",$F22="Z"),N$17<>""),"A","") | O22: =IF(AND(OR($F22="A",$F22="Z"),O$17<>""),"A","") | P22: =IF(AND(OR($F22="A",$F22="Z"),P$17<>""),"A","") | ... R22: =IF(AND(OR($F22="A",$F22="Z"),R$17<>""),"A","")
E23: =D23 -> 0 | I23: =IF(AND(OR($F23="A",$F23="Z"),I$17<>""),"A","") | J23: =IF(AND(OR($F23="A",$F23="Z"),J$17<>""),"A","") | K23: =IF(AND(OR($F23="A",$F23="Z"),K$17<>""),"A","") | L23: =IF(AND(OR($F23="A",$F23="Z"),L$17<>""),"A","") | M23: =IF(AND(OR($F23="A",$F23="Z"),M$17<>""),"A","") | N23: =IF(AND(OR($F23="A",$F23="Z"),N$17<>""),"A","") | O23: =IF(AND(OR($F23="A",$F23="Z"),O$17<>""),"A","") | P23: =IF(AND(OR($F23="A",$F23="Z"),P$17<>""),"A","") | ... R23: =IF(AND(OR($F23="A",$F23="Z"),R$17<>""),"A","")
E24: =D24 -> 0 | I24: =IF(AND(OR($F24="A",$F24="Z"),I$17<>""),"A","") | J24: =IF(AND(OR($F24="A",$F24="Z"),J$17<>""),"A","") | K24: =IF(AND(OR($F24="A",$F24="Z"),K$17<>""),"A","") | L24: =IF(AND(OR($F24="A",$F24="Z"),L$17<>""),"A","") | M24: =IF(AND(OR($F24="A",$F24="Z"),M$17<>""),"A","") | N24: =IF(AND(OR($F24="A",$F24="Z"),N$17<>""),"A","") | O24: =IF(AND(OR($F24="A",$F24="Z"),O$17<>""),"A","") | P24: =IF(AND(OR($F24="A",$F24="Z"),P$17<>""),"A","") | ... R24: =IF(AND(OR($F24="A",$F24="Z"),R$17<>""),"A","")
E25: =D25 -> 0 | I25: =IF(AND(OR($F25="A",$F25="Z"),I$17<>""),"A","") | J25: =IF(AND(OR($F25="A",$F25="Z"),J$17<>""),"A","") | K25: =IF(AND(OR($F25="A",$F25="Z"),K$17<>""),"A","") | L25: =IF(AND(OR($F25="A",$F25="Z"),L$17<>""),"A","") | M25: =IF(AND(OR($F25="A",$F25="Z"),M$17<>""),"A","") | N25: =IF(AND(OR($F25="A",$F25="Z"),N$17<>""),"A","") | O25: =IF(AND(OR($F25="A",$F25="Z"),O$17<>""),"A","") | P25: =IF(AND(OR($F25="A",$F25="Z"),P$17<>""),"A","") | ... R25: =IF(AND(OR($F25="A",$F25="Z"),R$17<>""),"A","")
E26: =D26 -> 0 | I26: =IF(AND(OR($F26="A",$F26="Z"),I$17<>""),"A","") | J26: =IF(AND(OR($F26="A",$F26="Z"),J$17<>""),"A","") | K26: =IF(AND(OR($F26="A",$F26="Z"),K$17<>""),"A","") | L26: =IF(AND(OR($F26="A",$F26="Z"),L$17<>""),"A","") | M26: =IF(AND(OR($F26="A",$F26="Z"),M$17<>""),"A","") | N26: =IF(AND(OR($F26="A",$F26="Z"),N$17<>""),"A","") | O26: =IF(AND(OR($F26="A",$F26="Z"),O$17<>""),"A","") | P26: =IF(AND(OR($F26="A",$F26="Z"),P$17<>""),"A","") | ... R26: =IF(AND(OR($F26="A",$F26="Z"),R$17<>""),"A","")
E27: =D27 -> 0 | I27: =IF(AND(OR($F27="A",$F27="Z"),I$17<>""),"A","") | J27: =IF(AND(OR($F27="A",$F27="Z"),J$17<>""),"A","") | K27: =IF(AND(OR($F27="A",$F27="Z"),K$17<>""),"A","") | L27: =IF(AND(OR($F27="A",$F27="Z"),L$17<>""),"A","") | M27: =IF(AND(OR($F27="A",$F27="Z"),M$17<>""),"A","") | N27: =IF(AND(OR($F27="A",$F27="Z"),N$17<>""),"A","") | O27: =IF(AND(OR($F27="A",$F27="Z"),O$17<>""),"A","") | P27: =IF(AND(OR($F27="A",$F27="Z"),P$17<>""),"A","") | ... R27: =IF(AND(OR($F27="A",$F27="Z"),R$17<>""),"A","")
E28: =D28 -> 0 | I28: =IF(AND(OR($F28="A",$F28="Z"),I$17<>""),"A","") | J28: =IF(AND(OR($F28="A",$F28="Z"),J$17<>""),"A","") | K28: =IF(AND(OR($F28="A",$F28="Z"),K$17<>""),"A","") | L28: =IF(AND(OR($F28="A",$F28="Z"),L$17<>""),"A","") | M28: =IF(AND(OR($F28="A",$F28="Z"),M$17<>""),"A","") | N28: =IF(AND(OR($F28="A",$F28="Z"),N$17<>""),"A","") | O28: =IF(AND(OR($F28="A",$F28="Z"),O$17<>""),"A","") | P28: =IF(AND(OR($F28="A",$F28="Z"),P$17<>""),"A","") | ... R28: =IF(AND(OR($F28="A",$F28="Z"),R$17<>""),"A","")
E29: =D29 -> 0 | I29: =IF(AND(OR($F29="A",$F29="Z"),I$17<>""),"A","") | J29: =IF(AND(OR($F29="A",$F29="Z"),J$17<>""),"A","") | K29: =IF(AND(OR($F29="A",$F29="Z"),K$17<>""),"A","") | L29: =IF(AND(OR($F29="A",$F29="Z"),L$17<>""),"A","") | M29: =IF(AND(OR($F29="A",$F29="Z"),M$17<>""),"A","") | N29: =IF(AND(OR($F29="A",$F29="Z"),N$17<>""),"A","") | O29: =IF(AND(OR($F29="A",$F29="Z"),O$17<>""),"A","") | P29: =IF(AND(OR($F29="A",$F29="Z"),P$17<>""),"A","") | ... R29: =IF(AND(OR($F29="A",$F29="Z"),R$17<>""),"A","")
... E77: =D77 -> 0 | I77: =IF(AND(OR($F77="A",$F77="Z"),I$17<>""),"A","") | J77: =IF(AND(OR($F77="A",$F77="Z"),J$17<>""),"A","") | K77: =IF(AND(OR($F77="A",$F77="Z"),K$17<>""),"A","") | L77: =IF(AND(OR($F77="A",$F77="Z"),L$17<>""),"A","") | M77: =IF(AND(OR($F77="A",$F77="Z"),M$17<>""),"A","") | N77: =IF(AND(OR($F77="A",$F77="Z"),N$17<>""),"A","") | O77: =IF(AND(OR($F77="A",$F77="Z"),O$17<>""),"A","") | P77: =IF(AND(OR($F77="A",$F77="Z"),P$17<>""),"A","") | ... R77: =IF(AND(OR($F77="A",$F77="Z"),R$17<>""),"A","")

Sheet Prezenční listina
B2: PREZENČNÍ LISTINA
B4: =Hlasování!B5 -> Společenství vlastníků xxx
B5: ="Shromáždění vlastníků"&" "&Hlasování!B7 -> Shromáždění vlastníků dne xx.xx.202x
B7: Vlastník | C7: Jednotka | D7: Spoluvlastnický podíl | F7: Podpis | G7: Zastupuje
B8: =IF(Hlasování!B18="","",Hlasování!B18) | C8: =IF(Hlasování!C18="","",Hlasování!C18) | D8: =IF(Hlasování!D18="","",Hlasování!D18) | E8: =D8
B9: =IF(Hlasování!B19="","",Hlasování!B19) | C9: =IF(Hlasování!C19="","",Hlasování!C19) | D9: =IF(Hlasování!D19="","",Hlasování!D19) | E9: =D9
B10: =IF(Hlasování!B20="","",Hlasování!B20) | C10: =IF(Hlasování!C20="","",Hlasování!C20) | D10: =IF(Hlasování!D20="","",Hlasování!D20) | E10: =D10
B11: =IF(Hlasování!B21="","",Hlasování!B21) | C11: =IF(Hlasování!C21="","",Hlasování!C21) | D11: =IF(Hlasování!D21="","",Hlasování!D21) | E11: =D11
B12: =IF(Hlasování!B22="","",Hlasování!B22) | C12: =IF(Hlasování!C22="","",Hlasování!C22) | D12: =IF(Hlasování!D22="","",Hlasování!D22) | E12: =D12
B13: =IF(Hlasování!B23="","",Hlasování!B23) | C13: =IF(Hlasování!C23="","",Hlasování!C23) | D13: =IF(Hlasování!D23="","",Hlasování!D23) | E13: =D13
B14: =IF(Hlasování!B24="","",Hlasování!B24) | C14: =IF(Hlasování!C24="","",Hlasování!C24) | D14: =IF(Hlasování!D24="","",Hlasování!D24) | E14: =D14
B15: =IF(Hlasování!B25="","",Hlasování!B25) | C15: =IF(Hlasování!C25="","",Hlasování!C25) | D15: =IF(Hlasování!D25="","",Hlasování!D25) | E15: =D15
B16: =IF(Hlasování!B26="","",Hlasování!B26) | C16: =IF(Hlasování!C26="","",Hlasování!C26) | D16: =IF(Hlasování!D26="","",Hlasování!D26) | E16: =D16
B17: =IF(Hlasování!B27="","",Hlasování!B27) | C17: =IF(Hlasování!C27="","",Hlasování!C27) | D17: =IF(Hlasování!D27="","",Hlasování!D27) | E17: =D17
B18: =IF(Hlasování!B28="","",Hlasování!B28) | C18: =IF(Hlasování!C28="","",Hlasování!C28) | D18: =IF(Hlasování!D28="","",Hlasování!D28) | E18: =D18
B19: =IF(Hlasování!B29="","",Hlasování!B29) | C19: =IF(Hlasování!C29="","",Hlasování!C29) | D19: =IF(Hlasování!D29="","",Hlasování!D29) | E19: =D19
... B67: =IF(Hlasování!B77="","",Hlasování!B77) | C67: =IF(Hlasování!C77="","",Hlasování!C77) | D67: =IF(Hlasování!D77="","",Hlasování!D77) | E67: =D67
D68: =SUM(D8:D67) -> 0 | E68: =SUM(E8:E67) -> 0
